Workbook

Sheet SELECTION REPERTOIRE
A1: REPERTOIRE INTERNATIONNAL
B2: ORDRE | C2: TITRE | E2: ARTISTE | F2: DUREE | H2: ORDRE | I2: TITRE | K2: ARTISTE | L2: DUREE | N2: ORDRE | O2: TITRE | Q2: ARTISTE | R2: DUREE
C3: 1 | D3: A kind of Magic | E3: Queen | F3: 0.0034722222 | I3: 22 | J3: Jailhouse rock | K3: Elvis Presley | L3: 0.0020717593 | O3: 43 | P3: Rock DJ | Q3: Robbie Williams | R3: 0.0028240741
C4: 2 | D4: Addicted to love | E4: Robert Palmer | F4: 0.0027777778 | I4: 23 | J4: Jesus he knows me | K4: Genesis | L4: 0.0036111111 | O4: 44 | P4: Rockin' all over the world | Q4: Status Quo | R4: 0.0025694444
C5: 3 | D5: Ai se eu te pego | E5: Michel Telo | F5: 0.0019907407 | I5: 24 | J5: Kiss | K5: Prince | L5: 0.0027199074 | O5: 45 | P5: Rome and Juliet | Q5: Dire Straits | R5: 0.0059375
C6: 4 | D6: Another brick in the wall | E6: Pink Floyd | F6: 0.0039583333 | I6: 25 | J6: Knock on wood | K6: Eddy Floyd | L6: 0.0026851852 | O6: 46 | P6: Rosanna | Q6: Toto | R6: 0.0040625
C7: 5 | D7: Another one bite the dust | E7: Queen | F7: 0.0021412037 | I7: 26 | J7: Le freak (1) | K7: Chic | L7: 0.0027083333 | O7: 47 | P7: Should I stay or should I go | Q7: The Clash | R7: 0.0022222222
C8: 6 | D8: Black betty | E8: Ram Jam | F8: 0.0028009259 | I8: 27 | J8: Let there be rock | K8: AC/DC | L8: 0.0043171296 | O8: 48 | P8: Shut up and dance | Q8: Walk the moon | R8: 0.0023611111
C9: 7 | D9: Blues suede shoes | E9: Carl Perkins | F9: 0.0018287037 | I9: 28 | J9: Life is life | K9: Opus | L9: 0.0028819444 | O9: 49 | P9: Smoke on the water | Q9: Deep Purple | R9: 0.0041319444
C10: 8 | D10: Born in the USA | E10: Bruce Springsteen | F10: 0.0036111111 | I10: 29 | J10: Locked out of heaven (1) | K10: Bruno Mars | L10: 0.0027662037 | O10: 50 | P10: Smooth | Q10: Santana | R10: 0.0035648148
C11: 9 | D11: Born to be wild | E11: Steppenwolf | F11: 0.0034953704 | I11: 30 | J11: Long train running | K11: Dobbie Brothers | L11: 0.0032175926 | O11: 51 | P11: So lonely | Q11: Police | R11: 0.0036342593
C12: 10 | D12: Crocodile rock | E12: Elton John | F12: 0.0026967593 | I12: 31 | J12: Medley Michaël Jackson (1) | K12: Michaël Jackson | L12: 0.0048958333 | O12: 52 | P12: Sweet child O mine | Q12: Guns'n Roses | R12: 0.0043981481
C13: 11 | D13: Everybody need somebody | E13: Blues Brothers | F13: 0.0021875 | I13: 32 | J13: Medley Shaka ponk (1) | K13: Shaka Ponk | L13: 0.0052083333 | O13: 53 | P13: Sweet dreams | Q13: Eurythmics | R13: 0.0032407407
C14: 12 | D14: Free bird | E14: Lynyrd Skynyrd | F14: 0.0076967593 | I14: 33 | J14: Misirlou | K14: Dike Dale | L14: 0.0016087963 | O14: 54 | P14: Telegraph Road | Q14: Dire Straits | R14: 0.010532407
... C21: 19 | D21: Hysteria | E21: Muse | F21: 0.0026388889 | I21: 40 | J21: Panic Station | K21: Muse | L21: 0.0021643519 | O21: 61 | P21: While my guitar gently wheep | Q21: Jeff Haelley/Beatles | R21: 0.0036574074
C22: 20 | D22: I want it all | E22: Queen | F22: 0.0032638889 | I22: 41 | J22: Proud Mary | K22: Creadance | L22: 0.0023263889
C23: 21 | D23: Innuendo | E23: Queen | F23: 0.0044444444 | I23: 42 | J23: Rock around th clock | K23: Bill Halley | L23: 0.001712963 | N23: (1) Morceaux uniquement disponible avec chanteuse
A25: REPERTOIRE FRANCAIS
B26: ORDRE | C26: TITRE | E26: ARTISTE | F26: DUREE | H26: ORDRE | I26: TITRE | K26: ARTISTE | L26: DUREE | N26: ORDRE | O26: TITRE | Q26: ARTISTE | R26: DUREE
C27: 62 | D27: A ton étoile | E27: Noir Désir | F27: 0.0030439815 | I27: 83 | J27: La corrida | K27: Francis Cabrel | L27: 0.0037847222 | O27: 104 | P27: La musique que j'aime | Q27: Johnny Hallyday | R27: 0.0038541667
C28: 63 | D28: Alors regarde | E28: Patricl Bruel | F28: 0.0027777778 | I28: 84 | J28: Lambé en dro | K28: Matmatah | L28: 0.0024305556
C29: 64 | D29: Ca c'est vraiment toi | E29: Téléphone | F29: 0.0031712963 | I29: 85 | J29: L'aventurier | K29: Indochine | L29: 0.0027430556
C30: 65 | D30: Cadillac | E30: Johnny Hallyday | F30: 0.0039236111 | I30: 86 | J30: Le bon temps du rock'n roll | K30: Johnny Hallyday | L30: 0.0029398148
C31: 66 | D31: Cargot de nuit | E31: Axel Bauer | F31: 0.0031944444 | I31: 87 | J31: Le jerk | K31: Thierry Hazard | L31: 0.0028125
C32: 67 | D32: C'est comme ça | E32: Rita Mitsouko | F32: 0.0035532407 | I32: 88 | J32: L'envie | K32: Johnny Hallyday | L32: 0.0028703704
C33: 68 | D33: C'est un pays | E33: Soldat Louis | F33: 0.0039699074 | I33: 89 | J33: Loco loco | K33: Paul Personne | L33: 0.0038541667
C34: 69 | D34: C'est un rocker | E34: Eddy Mitchell | F34: 0.0026388889 | I34: 90 | J34: Marcia Baila | K34: Rita Mitsouko | L34: 0.0040162037
C35: 70 | D35: Cette année là | E35: Claude François | F35: 0.0023958333 | I35: 91 | J35: Medley Goldman | K35: JJ Goldman | L35: 0.005150463
C36: 71 | D36: Couleur café | E36: Serge Gainsbourg | F36: 0.0024305556 | I36: 92 | J36: Medley Johnny | K36: Johnny Hallyday | L36: 0.0048726852
C37: 72 | D37: Dès que le vent soufflera | E37: Renaud | F37: 0.0028587963 | I37: 93 | J37: Narcisse 81 | K37: HF Tiefaine | L37: 0.0025231481
C38: 73 | D38: Est-ce que tu me suis | E38: Florent Pagny | F38: 0.0031365741 | I38: 94 | J38: Noir c'est noir | K38: Johnny Hallyday | L38: 0.0029166667
C39: 74 | D39: Eteins la lumière | E39: Axel Bauer | F39: 0.002962963 | I39: 95 | J39: Oh ma jolie Sarah | K39: Johnny Hallyday | L39: 0.003912037
... C47: 82 | D47: La boite de Jazz | E47: Michel Jonasz | F47: 0.0028009259 | I47: 103 | J47: Toi + moi | K47: Grégoire | L47: 0.0024421296
D49: =IF(K49>0.127454117647058,"ATTENTION LA DUREE DU CONCERT EST SUPERIEUR A 3H"," ") | F49: DUREE CONCERT (en heure) : | K49: =SUM(CODES!G25:L25) -> 0
J51: Dont internationnal : | K51: =CODES!G25 -> 0
J52: Dont Français : | K52: =CODES!J25 -> 0
F53: Nombre de TITRE : | K53: =SUM(CODES!M25:R25) -> 0
J55: Dont internationnal : | K55: =CODES!M25 -> 0
J56: Dont Français : | K56: =CODES!P25 -> 0

Sheet ORDRE CONCERT
A1: ORDRE CONCERT
B3: =IF(CODES!A3=TRUE,'SELECTION REPERTOIRE'!B3," ") | C3: =CODES!A27 | D3: 1
B4: =IF(CODES!A4=TRUE,'SELECTION REPERTOIRE'!B4," ") | C4: =CODES!A28 | D4: 2
B5: =IF(CODES!A5=TRUE,'SELECTION REPERTOIRE'!B5," ") | C5: =CODES!A29 | D5: 3
B6: =IF(CODES!A6=TRUE,'SELECTION REPERTOIRE'!B6," ") | C6: =CODES!A30 | D6: 4
B7: =IF(CODES!A7=TRUE,'SELECTION REPERTOIRE'!B7," ") | C7: =CODES!A31 | D7: 5
B8: =IF(CODES!A8=TRUE,'SELECTION REPERTOIRE'!B8," ") | C8: =CODES!A32 | D8: 6
B9: =IF(CODES!A9=TRUE,'SELECTION REPERTOIRE'!B9," ") | C9: =CODES!A33 | D9: 7
B10: =IF(CODES!A10=TRUE,'SELECTION REPERTOIRE'!B10," ") | C10: =CODES!A34 | D10: 8
B11: =IF(CODES!A11=TRUE,'SELECTION REPERTOIRE'!B11," ") | C11: =CODES!A35 | D11: 9
B12: =IF(CODES!A12=TRUE,'SELECTION REPERTOIRE'!B12," ") | C12: =CODES!A36 | D12: 10
B13: =IF(CODES!A13=TRUE,'SELECTION REPERTOIRE'!B13," ") | C13: =CODES!A37 | D13: 11
B14: =IF(CODES!A14=TRUE,'SELECTION REPERTOIRE'!B14," ") | C14: =CODES!A38 | D14: 12
... B23: =IF(CODES!A23=TRUE,'SELECTION REPERTOIRE'!B23," ") | C23: =CODES!A47 | D23: 21
B24: =IF(CODES!B3,'SELECTION REPERTOIRE'!H3," ") | C24: =CODES!B27 | D24: 22
B25: =IF(CODES!B4,'SELECTION REPERTOIRE'!H4," ") | C25: =CODES!B28 | D25: 23
B26: =IF(CODES!B5,'SELECTION REPERTOIRE'!H5," ") | C26: =CODES!B29 | D26: 24
B27: =IF(CODES!B6,'SELECTION REPERTOIRE'!H6," ") | C27: =CODES!B30 | D27: 25
B28: =IF(CODES!B7,'SELECTION REPERTOIRE'!H7," ") | C28: =CODES!B31 | D28: 26
B29: =IF(CODES!B8,'SELECTION REPERTOIRE'!H8," ") | C29: =CODES!B32 | D29: 27
B30: =IF(CODES!B9,'SELECTION REPERTOIRE'!H9," ") | C30: =CODES!B33 | D30: 28
B31: =IF(CODES!B10,'SELECTION REPERTOIRE'!H10," ") | C31: =CODES!B34 | D31: 29
B32: =IF(CODES!B11,'SELECTION REPERTOIRE'!H11," ") | C32: =CODES!B35 | D32: 30
B33: =IF(CODES!B12,'SELECTION REPERTOIRE'!H12," ") | C33: =CODES!B36 | D33: 31
B34: =IF(CODES!B13,'SELECTION REPERTOIRE'!H13," ") | C34: =CODES!B37 | D34: 32
B35: =IF(CODES!B14,'SELECTION REPERTOIRE'!H14," ") | C35: =CODES!B38 | D35: 33
... B44: =IF(CODES!B23,'SELECTION REPERTOIRE'!H23," ") | C44: =CODES!B47 | D44: 42
B45: =IF(CODES!C3,'SELECTION REPERTOIRE'!N3," ") | C45: =CODES!C27 | D45: 43
B46: =IF(CODES!C4,'SELECTION REPERTOIRE'!N4," ") | C46: =CODES!C28 | D46: 44
B47: =IF(CODES!C5,'SELECTION REPERTOIRE'!N5," ") | C47: =CODES!C29 | D47: 45
B48: =IF(CODES!C6,'SELECTION REPERTOIRE'!N6," ") | C48: =CODES!C30 | D48: 46
B49: =IF(CODES!C7,'SELECTION REPERTOIRE'!N7," ") | C49: =CODES!C31 | D49: 47
B50: =IF(CODES!C8,'SELECTION REPERTOIRE'!N8," ") | C50: =CODES!C32 | D50: 48
B51: =IF(CODES!C9,'SELECTION REPERTOIRE'!N9," ") | C51: =CODES!C33 | D51: 49
B52: =IF(CODES!C10,'SELECTION REPERTOIRE'!N10," ") | C52: =CODES!C34 | D52: 50
B53: =IF(CODES!C11,'SELECTION REPERTOIRE'!N11," ") | C53: =CODES!C35 | D53: 51
B54: =IF(CODES!C12,'SELECTION REPERTOIRE'!N12," ") | C54: =CODES!C36 | D54: 52
B55: =IF(CODES!C13,'SELECTION REPERTOIRE'!N13," ") | C55: =CODES!C37 | D55: 53
B56: =IF(CODES!C14,'SELECTION REPERTOIRE'!N14," ") | C56: =CODES!C38 | D56: 54
... B63: =IF(CODES!C21,'SELECTION REPERTOIRE'!N21," ") | C63: =CODES!C45 | D63: 61
...

Sheet CODES
A2: VALEUR COCHEE | G2: VALEUR DUREE | M2: VALEUR NOMBRE
A3: FALSE | B3: FALSE | C3: FALSE | D3: FALSE | E3: FALSE | F3: FALSE | G3: =IF(A3=TRUE,'SELECTION REPERTOIRE'!F3,0) -> 0 | H3: =IF(B3=TRUE,'SELECTION REPERTOIRE'!L3,0) -> 0 | I3: =IF(C3=TRUE,'SELECTION REPERTOIRE'!R3,0) -> 0 | J3: =IF(D3=TRUE,'SELECTION REPERTOIRE'!F27,0) -> 0 | K3: =IF(E3=TRUE,'SELECTION REPERTOIRE'!L27,0) -> 0 | L3: =IF(F3=TRUE,'SELECTION REPERTOIRE'!R27,0) -> 0 | M3: =IF(A3=TRUE,1,0) -> 0 | N3: =IF(B3=TRUE,1,0) -> 0 | O3: =IF(C3=TRUE,1,0) -> 0 | P3: =IF(D3=TRUE,1,0) -> 0 | Q3: =IF(E3=TRUE,1,0) -> 0 | R3: =IF(F3=TRUE,1,0) -> 0
A4: FALSE | B4: FALSE | C4: FALSE | D4: FALSE | E4: FALSE | G4: =IF(A4=TRUE,'SELECTION REPERTOIRE'!F4,0) -> 0 | H4: =IF(B4=TRUE,'SELECTION REPERTOIRE'!L4,0) -> 0 | I4: =IF(C4=TRUE,'SELECTION REPERTOIRE'!R4,0) -> 0 | J4: =IF(D4=TRUE,'SELECTION REPERTOIRE'!F28,0) -> 0 | K4: =IF(E4=TRUE,'SELECTION REPERTOIRE'!L28,0) -> 0 | L4: =IF(F4=TRUE,'SELECTION REPERTOIRE'!R28,0) -> 0 | M4: =IF(A4=TRUE,1,0) -> 0 | N4: =IF(B4=TRUE,1,0) -> 0 | O4: =IF(C4=TRUE,1,0) -> 0 | P4: =IF(D4=TRUE,1,0) -> 0 | Q4: =IF(E4=TRUE,1,0) -> 0 | R4: =IF(F4=TRUE,1,0) -> 0
A5: FALSE | B5: FALSE | C5: FALSE | D5: FALSE | E5: FALSE | G5: =IF(A5=TRUE,'SELECTION REPERTOIRE'!F5,0) -> 0 | H5: =IF(B5=TRUE,'SELECTION REPERTOIRE'!L5,0) -> 0 | I5: =IF(C5=TRUE,'SELECTION REPERTOIRE'!R5,0) -> 0 | J5: =IF(D5=TRUE,'SELECTION REPERTOIRE'!F29,0) -> 0 | K5: =IF(E5=TRUE,'SELECTION REPERTOIRE'!L29,0) -> 0 | L5: =IF(F5=TRUE,'SELECTION REPERTOIRE'!R29,0) -> 0 | M5: =IF(A5=TRUE,1,0) -> 0 | N5: =IF(B5=TRUE,1,0) -> 0 | O5: =IF(C5=TRUE,1,0) -> 0 | P5: =IF(D5=TRUE,1,0) -> 0 | Q5: =IF(E5=TRUE,1,0) -> 0 | R5: =IF(F5=TRUE,1,0) -> 0
A6: FALSE | B6: FALSE | C6: FALSE | D6: FALSE | E6: FALSE | G6: =IF(A6=TRUE,'SELECTION REPERTOIRE'!F6,0) -> 0 | H6: =IF(B6=TRUE,'SELECTION REPERTOIRE'!L6,0) -> 0 | I6: =IF(C6=TRUE,'SELECTION REPERTOIRE'!R6,0) -> 0 | J6: =IF(D6=TRUE,'SELECTION REPERTOIRE'!F30,0) -> 0 | K6: =IF(E6=TRUE,'SELECTION REPERTOIRE'!L30,0) -> 0 | L6: =IF(F6=TRUE,'SELECTION REPERTOIRE'!R30,0) -> 0 | M6: =IF(A6=TRUE,1,0) -> 0 | N6: =IF(B6=TRUE,1,0) -> 0 | O6: =IF(C6=TRUE,1,0) -> 0 | P6: =IF(D6=TRUE,1,0) -> 0 | Q6: =IF(E6=TRUE,1,0) -> 0 | R6: =IF(F6=TRUE,1,0) -> 0
A7: FALSE | B7: FALSE | C7: FALSE | D7: FALSE | E7: FALSE | G7: =IF(A7=TRUE,'SELECTION REPERTOIRE'!F7,0) -> 0 | H7: =IF(B7=TRUE,'SELECTION REPERTOIRE'!L7,0) -> 0 | I7: =IF(C7=TRUE,'SELECTION REPERTOIRE'!R7,0) -> 0 | J7: =IF(D7=TRUE,'SELECTION REPERTOIRE'!F31,0) -> 0 | K7: =IF(E7=TRUE,'SELECTION REPERTOIRE'!L31,0) -> 0 | L7: =IF(F7=TRUE,'SELECTION REPERTOIRE'!R31,0) -> 0 | M7: =IF(A7=TRUE,1,0) -> 0 | N7: =IF(B7=TRUE,1,0) -> 0 | O7: =IF(C7=TRUE,1,0) -> 0 | P7: =IF(D7=TRUE,1,0) -> 0 | Q7: =IF(E7=TRUE,1,0) -> 0 | R7: =IF(F7=TRUE,1,0) -> 0
A8: FALSE | B8: FALSE | C8: FALSE | D8: FALSE | E8: FALSE | G8: =IF(A8=TRUE,'SELECTION REPERTOIRE'!F8,0) -> 0 | H8: =IF(B8=TRUE,'SELECTION REPERTOIRE'!L8,0) -> 0 | I8: =IF(C8=TRUE,'SELECTION REPERTOIRE'!R8,0) -> 0 | J8: =IF(D8=TRUE,'SELECTION REPERTOIRE'!F32,0) -> 0 | K8: =IF(E8=TRUE,'SELECTION REPERTOIRE'!L32,0) -> 0 | L8: =IF(F8=TRUE,'SELECTION REPERTOIRE'!R32,0) -> 0 | M8: =IF(A8=TRUE,1,0) -> 0 | N8: =IF(B8=TRUE,1,0) -> 0 | O8: =IF(C8=TRUE,1,0) -> 0 | P8: =IF(D8=TRUE,1,0) -> 0 | Q8: =IF(E8=TRUE,1,0) -> 0 | R8: =IF(F8=TRUE,1,0) -> 0
A9: FALSE | B9: FALSE | C9: FALSE | D9: FALSE | E9: FALSE | G9: =IF(A9=TRUE,'SELECTION REPERTOIRE'!F9,0) -> 0 | H9: =IF(B9=TRUE,'SELECTION REPERTOIRE'!L9,0) -> 0 | I9: =IF(C9=TRUE,'SELECTION REPERTOIRE'!R9,0) -> 0 | J9: =IF(D9=TRUE,'SELECTION REPERTOIRE'!F33,0) -> 0 | K9: =IF(E9=TRUE,'SELECTION REPERTOIRE'!L33,0) -> 0 | L9: =IF(F9=TRUE,'SELECTION REPERTOIRE'!R33,0) -> 0 | M9: =IF(A9=TRUE,1,0) -> 0 | N9: =IF(B9=TRUE,1,0) -> 0 | O9: =IF(C9=TRUE,1,0) -> 0 | P9: =IF(D9=TRUE,1,0) -> 0 | Q9: =IF(E9=TRUE,1,0) -> 0 | R9: =IF(F9=TRUE,1,0) -> 0
A10: FALSE | B10: FALSE | C10: FALSE | D10: FALSE | E10: FALSE | G10: =IF(A10=TRUE,'SELECTION REPERTOIRE'!F10,0) -> 0 | H10: =IF(B10=TRUE,'SELECTION REPERTOIRE'!L10,0) -> 0 | I10: =IF(C10=TRUE,'SELECTION REPERTOIRE'!R10,0) -> 0 | J10: =IF(D10=TRUE,'SELECTION REPERTOIRE'!F34,0) -> 0 | K10: =IF(E10=TRUE,'SELECTION REPERTOIRE'!L34,0) -> 0 | L10: =IF(F10=TRUE,'SELECTION REPERTOIRE'!R34,0) -> 0 | M10: =IF(A10=TRUE,1,0) -> 0 | N10: =IF(B10=TRUE,1,0) -> 0 | O10: =IF(C10=TRUE,1,0) -> 0 | P10: =IF(D10=TRUE,1,0) -> 0 | Q10: =IF(E10=TRUE,1,0) -> 0 | R10: =IF(F10=TRUE,1,0) -> 0
A11: FALSE | B11: FALSE | C11: FALSE | D11: FALSE | E11: FALSE | G11: =IF(A11=TRUE,'SELECTION REPERTOIRE'!F11,0) -> 0 | H11: =IF(B11=TRUE,'SELECTION REPERTOIRE'!L11,0) -> 0 | I11: =IF(C11=TRUE,'SELECTION REPERTOIRE'!R11,0) -> 0 | J11: =IF(D11=TRUE,'SELECTION REPERTOIRE'!F35,0) -> 0 | K11: =IF(E11=TRUE,'SELECTION REPERTOIRE'!L35,0) -> 0 | L11: =IF(F11=TRUE,'SELECTION REPERTOIRE'!R35,0) -> 0 | M11: =IF(A11=TRUE,1,0) -> 0 | N11: =IF(B11=TRUE,1,0) -> 0 | O11: =IF(C11=TRUE,1,0) -> 0 | P11: =IF(D11=TRUE,1,0) -> 0 | Q11: =IF(E11=TRUE,1,0) -> 0 | R11: =IF(F11=TRUE,1,0) -> 0
A12: FALSE | B12: FALSE | C12: FALSE | D12: FALSE | E12: FALSE | G12: =IF(A12=TRUE,'SELECTION REPERTOIRE'!F12,0) -> 0 | H12: =IF(B12=TRUE,'SELECTION REPERTOIRE'!L12,0) -> 0 | I12: =IF(C12=TRUE,'SELECTION REPERTOIRE'!R12,0) -> 0 | J12: =IF(D12=TRUE,'SELECTION REPERTOIRE'!F36,0) -> 0 | K12: =IF(E12=TRUE,'SELECTION REPERTOIRE'!L36,0) -> 0 | L12: =IF(F12=TRUE,'SELECTION REPERTOIRE'!R36,0) -> 0 | M12: =IF(A12=TRUE,1,0) -> 0 | N12: =IF(B12=TRUE,1,0) -> 0 | O12: =IF(C12=TRUE,1,0) -> 0 | P12: =IF(D12=TRUE,1,0) -> 0 | Q12: =IF(E12=TRUE,1,0) -> 0 | R12: =IF(F12=TRUE,1,0) -> 0
A13: FALSE | B13: FALSE | C13: FALSE | D13: FALSE | E13: FALSE | G13: =IF(A13=TRUE,'SELECTION REPERTOIRE'!F13,0) -> 0 | H13: =IF(B13=TRUE,'SELECTION REPERTOIRE'!L13,0) -> 0 | I13: =IF(C13=TRUE,'SELECTION REPERTOIRE'!R13,0) -> 0 | J13: =IF(D13=TRUE,'SELECTION REPERTOIRE'!F37,0) -> 0 | K13: =IF(E13=TRUE,'SELECTION REPERTOIRE'!L37,0) -> 0 | L13: =IF(F13=TRUE,'SELECTION REPERTOIRE'!R37,0) -> 0 | M13: =IF(A13=TRUE,1,0) -> 0 | N13: =IF(B13=TRUE,1,0) -> 0 | O13: =IF(C13=TRUE,1,0) -> 0 | P13: =IF(D13=TRUE,1,0) -> 0 | Q13: =IF(E13=TRUE,1,0) -> 0 | R13: =IF(F13=TRUE,1,0) -> 0
A14: FALSE | B14: FALSE | C14: FALSE | D14: FALSE | E14: FALSE | G14: =IF(A14=TRUE,'SELECTION REPERTOIRE'!F14,0) -> 0 | H14: =IF(B14=TRUE,'SELECTION REPERTOIRE'!L14,0) -> 0 | I14: =IF(C14=TRUE,'SELECTION REPERTOIRE'!R14,0) -> 0 | J14: =IF(D14=TRUE,'SELECTION REPERTOIRE'!F38,0) -> 0 | K14: =IF(E14=TRUE,'SELECTION REPERTOIRE'!L38,0) -> 0 | L14: =IF(F14=TRUE,'SELECTION REPERTOIRE'!R38,0) -> 0 | M14: =IF(A14=TRUE,1,0) -> 0 | N14: =IF(B14=TRUE,1,0) -> 0 | O14: =IF(C14=TRUE,1,0) -> 0 | P14: =IF(D14=TRUE,1,0) -> 0 | Q14: =IF(E14=TRUE,1,0) -> 0 | R14: =IF(F14=TRUE,1,0) -> 0
A15: FALSE | B15: FALSE | C15: FALSE | D15: FALSE | E15: FALSE | G15: =IF(A15=TRUE,'SELECTION REPERTOIRE'!F15,0) -> 0 | H15: =IF(B15=TRUE,'SELECTION REPERTOIRE'!L15,0) -> 0 | I15: =IF(C15=TRUE,'SELECTION REPERTOIRE'!R15,0) -> 0 | J15: =IF(D15=TRUE,'SELECTION REPERTOIRE'!F39,0) -> 0 | K15: =IF(E15=TRUE,'SELECTION REPERTOIRE'!L39,0) -> 0 | L15: =IF(F15=TRUE,'SELECTION REPERTOIRE'!R39,0) -> 0 | M15: =IF(A15=TRUE,1,0) -> 0 | N15: =IF(B15=TRUE,1,0) -> 0 | O15: =IF(C15=TRUE,1,0) -> 0 | P15: =IF(D15=TRUE,1,0) -> 0 | Q15: =IF(E15=TRUE,1,0) -> 0 | R15: =IF(F15=TRUE,1,0) -> 0
... A22: FALSE | B22: FALSE | C22: FALSE | D22: FALSE | E22: FALSE | G22: =IF(A22=TRUE,'SELECTION REPERTOIRE'!F22,0) -> 0 | H22: =IF(B22=TRUE,'SELECTION REPERTOIRE'!L22,0) -> 0 | I22: =IF(C22=TRUE,'SELECTION REPERTOIRE'!R22,0) -> 0 | J22: =IF(D22=TRUE,'SELECTION REPERTOIRE'!F46,0) -> 0 | K22: =IF(E22=TRUE,'SELECTION REPERTOIRE'!L46,0) -> 0 | L22: =IF(F22=TRUE,'SELECTION REPERTOIRE'!R46,0) -> 0 | M22: =IF(A22=TRUE,1,0) -> 0 | N22: =IF(B22=TRUE,1,0) -> 0 | O22: =IF(C22=TRUE,1,0) -> 0 | P22: =IF(D22=TRUE,1,0) -> 0 | Q22: =IF(E22=TRUE,1,0) -> 0 | R22: =IF(F22=TRUE,1,0) -> 0
A23: FALSE | B23: FALSE | D23: FALSE | E23: FALSE | G23: =IF(A23=TRUE,'SELECTION REPERTOIRE'!F23,0) -> 0 | H23: =IF(B23=TRUE,'SELECTION REPERTOIRE'!L23,0) -> 0 | I23: =IF(C23=TRUE,'SELECTION REPERTOIRE'!R23,0) -> 0 | J23: =IF(D23=TRUE,'SELECTION REPERTOIRE'!F47,0) -> 0 | K23: =IF(E23=TRUE,'SELECTION REPERTOIRE'!L47,0) -> 0 | L23: =IF(F23=TRUE,'SELECTION REPERTOIRE'!R47,0) -> 0 | M23: =IF(A23=TRUE,1,0) -> 0 | N23: =IF(B23=TRUE,1,0) -> 0 | O23: =IF(C23=TRUE,1,0) -> 0 | P23: =IF(D23=TRUE,1,0) -> 0 | Q23: =IF(E23=TRUE,1,0) -> 0 | R23: =IF(F23=TRUE,1,0) -> 0
G25: =SUM(G3:I23) -> 0 | J25: =SUM(J3:L23) -> 0 | M25: =SUM(M3:O23) -> 0 | P25: =SUM(P3:R23) -> 0
A26: ORDRE
A27: =IF(A3=TRUE,'SELECTION REPERTOIRE'!D3," ") | B27: =IF(B3=TRUE,'SELECTION REPERTOIRE'!J3," ") | C27: =IF(C3,'SELECTION REPERTOIRE'!P3," ") | D27: =IF(D3,'SELECTION REPERTOIRE'!D27," ") | E27: =IF(E3,'SELECTION REPERTOIRE'!J27," ") | F27: =IF(F3,'SELECTION REPERTOIRE'!P27," ")
A28: =IF(A4=TRUE,'SELECTION REPERTOIRE'!D4," ") | B28: =IF(B4=TRUE,'SELECTION REPERTOIRE'!J4," ") | C28: =IF(C4,'SELECTION REPERTOIRE'!P4," ") | D28: =IF(D4,'SELECTION REPERTOIRE'!D28," ") | E28: =IF(E4,'SELECTION REPERTOIRE'!J28," ") | F28: =IF(F4,'SELECTION REPERTOIRE'!P28," ")
A29: =IF(A5=TRUE,'SELECTION REPERTOIRE'!D5," ") | B29: =IF(B5=TRUE,'SELECTION REPERTOIRE'!J5," ") | C29: =IF(C5,'SELECTION REPERTOIRE'!P5," ") | D29: =IF(D5,'SELECTION REPERTOIRE'!D29," ") | E29: =IF(E5,'SELECTION REPERTOIRE'!J29," ") | F29: =IF(F5,'SELECTION REPERTOIRE'!P29," ")
A30: =IF(A6=TRUE,'SELECTION REPERTOIRE'!D6," ") | B30: =IF(B6=TRUE,'SELECTION REPERTOIRE'!J6," ") | C30: =IF(C6,'SELECTION REPERTOIRE'!P6," ") | D30: =IF(D6,'SELECTION REPERTOIRE'!D30," ") | E30: =IF(E6,'SELECTION REPERTOIRE'!J30," ") | F30: =IF(F6,'SELECTION REPERTOIRE'!P30," ")
A31: =IF(A7=TRUE,'SELECTION REPERTOIRE'!D7," ") | B31: =IF(B7=TRUE,'SELECTION REPERTOIRE'!J7," ") | C31: =IF(C7,'SELECTION REPERTOIRE'!P7," ") | D31: =IF(D7,'SELECTION REPERTOIRE'!D31," ") | E31: =IF(E7,'SELECTION REPERTOIRE'!J31," ") | F31: =IF(F7,'SELECTION REPERTOIRE'!P31," ")
A32: =IF(A8=TRUE,'SELECTION REPERTOIRE'!D8," ") | B32: =IF(B8=TRUE,'SELECTION REPERTOIRE'!J8," ") | C32: =IF(C8,'SELECTION REPERTOIRE'!P8," ") | D32: =IF(D8,'SELECTION REPERTOIRE'!D32," ") | E32: =IF(E8,'SELECTION REPERTOIRE'!J32," ") | F32: =IF(F8,'SELECTION REPERTOIRE'!P32," ")
A33: =IF(A9=TRUE,'SELECTION REPERTOIRE'!D9," ") | B33: =IF(B9=TRUE,'SELECTION REPERTOIRE'!J9," ") | C33: =IF(C9,'SELECTION REPERTOIRE'!P9," ") | D33: =IF(D9,'SELECTION REPERTOIRE'!D33," ") | E33: =IF(E9,'SELECTION REPERTOIRE'!J33," ") | F33: =IF(F9,'SELECTION REPERTOIRE'!P33," ")
A34: =IF(A10=TRUE,'SELECTION REPERTOIRE'!D10," ") | B34: =IF(B10=TRUE,'SELECTION REPERTOIRE'!J10," ") | C34: =IF(C10,'SELECTION REPERTOIRE'!P10," ") | D34: =IF(D10,'SELECTION REPERTOIRE'!D34," ") | E34: =IF(E10,'SELECTION REPERTOIRE'!J34," ") | F34: =IF(F10,'SELECTION REPERTOIRE'!P34," ")
A35: =IF(A11=TRUE,'SELECTION REPERTOIRE'!D11," ") | B35: =IF(B11=TRUE,'SELECTION REPERTOIRE'!J11," ") | C35: =IF(C11,'SELECTION REPERTOIRE'!P11," ") | D35: =IF(D11,'SELECTION REPERTOIRE'!D35," ") | E35: =IF(E11,'SELECTION REPERTOIRE'!J35," ") | F35: =IF(F11,'SELECTION REPERTOIRE'!P35," ")
A36: =IF(A12=TRUE,'SELECTION REPERTOIRE'!D12," ") | B36: =IF(B12=TRUE,'SELECTION REPERTOIRE'!J12," ") | C36: =IF(C12,'SELECTION REPERTOIRE'!P12," ") | D36: =IF(D12,'SELECTION REPERTOIRE'!D36," ") | E36: =IF(E12,'SELECTION REPERTOIRE'!J36," ") | F36: =IF(F12,'SELECTION REPERTOIRE'!P36," ")
A37: =IF(A13=TRUE,'SELECTION REPERTOIRE'!D13," ") | B37: =IF(B13=TRUE,'SELECTION REPERTOIRE'!J13," ") | C37: =IF(C13,'SELECTION REPERTOIRE'!P13," ") | D37: =IF(D13,'SELECTION REPERTOIRE'!D37," ") | E37: =IF(E13,'SELECTION REPERTOIRE'!J37," ") | F37: =IF(F13,'SELECTION REPERTOIRE'!P37," ")
A38: =IF(A14=TRUE,'SELECTION REPERTOIRE'!D14," ") | B38: =IF(B14=TRUE,'SELECTION REPERTOIRE'!J14," ") | C38: =IF(C14,'SELECTION REPERTOIRE'!P14," ") | D38: =IF(D14,'SELECTION REPERTOIRE'!D38," ") | E38: =IF(E14,'SELECTION REPERTOIRE'!J38," ") | F38: =IF(F14,'SELECTION REPERTOIRE'!P38," ")
... A47: =IF(A23=TRUE,'SELECTION REPERTOIRE'!D23," ") | B47: =IF(B23=TRUE,'SELECTION REPERTOIRE'!J23," ") | C47: =IF(C23,'SELECTION REPERTOIRE'!P23," ") | D47: =IF(D23,'SELECTION REPERTOIRE'!D47," ") | E47: =IF(E23,'SELECTION REPERTOIRE'!J47," ") | F47: =IF(F23,'SELECTION REPERTOIRE'!P47," ")
